BEGIN:VCALENDAR
VERSION:2.0
PRODID:-//ChamberMaster//Event Calendar 2.0//EN
METHOD:PUBLISH
X-PUBLISHED-TTL:P1H
REFRESH-INTERVAL:P1H
CALSCALE:GREGORIAN
BEGIN:VTIMEZONE
TZID:America/New_York
BEGIN:DAYLIGHT
RRULE:FREQ=YEARLY;BYMONTH=3;BYDAY=2SU
DTSTART:20070101T000000
TZOFFSETFROM:-0500
TZOFFSETTO:-0400
TZNAME:Eastern Daylight Time
END:DAYLIGHT
BEGIN:STANDARD
RRULE:FREQ=YEARLY;BYMONTH=11;BYDAY=1SU
DTSTART:20070101T000000
TZOFFSETFROM:-0400
TZOFFSETTO:-0500
TZNAME:Eastern Standard Time
END:STANDARD
END:VTIMEZONE
BEGIN:VEVENT
DTSTART;TZID=America/New_York:20260507T090000
DTEND;TZID=America/New_York:20260507T100000
X-MICROSOFT-CDO-ALLDAYEVENT:FALSE
SUMMARY:DMA Quarterly Alliance Meeting
DESCRIPTION:Join us for our Quarterly Downtown Networking Meeting—an opportunity to connect\, learn\, and grow together as a downtown business community.\nWe’re excited to introduce a new addition to these meetings: Featured Speakers who will provide valuable insight\, tools\, and strategies to help your business succeed and help our downtown thrive.\nWhat to Expect:\nCoffee & pastries\nNetworking with fellow business owners and community members\nA featured speaker with practical\, real-world insight\nQuick updates on upcoming downtown events and opportunities\nFeatured Speaker: Cannon Moyer\, Founder of ByteSize\nCannon Moyer brings enterprise-level technology expertise to small and medium-sized businesses. With a background in web development\, e-commerce\, and advanced software systems\, he now helps businesses build strong digital foundations through high-performance websites\, automation\, and AI-driven tools.\nWhat He’ll Cover:\nHow to organize your business data and systems\nSimple ways to automate your marketing and daily tasks\nUnderstanding AI tools and how they can actually help your business\nImproving your online presence so customers can find you\nPractical strategies to stay competitive in today’s digital world\nWhether you're a retail shop\, restaurant\, or service-based business\, this session will give you actionable ideas you can start using right away.\nWe hope you’ll join us as we continue building a stronger\, more connected downtown!
X-ALT-DESC;FMTTYPE=text/html:Join us for our Quarterly Downtown Networking Meeting—an opportunity to connect\, learn\, and grow together as a downtown business community.\nWe’re excited to introduce a new addition to these meetings: Featured Speakers who will provide valuable insight\, tools\, and strategies to help your business succeed and help our downtown thrive.\nWhat to Expect:\nCoffee & pastries\nNetworking with fellow business owners and community members\nA featured speaker with practical\, real-world insight\nQuick updates on upcoming downtown events and opportunities\nFeatured Speaker: Cannon Moyer\, Founder of ByteSize\nCannon Moyer brings enterprise-level technology expertise to small and medium-sized businesses. With a background in web development\, e-commerce\, and advanced software systems\, he now helps businesses build strong digital foundations through high-performance websites\, automation\, and AI-driven tools.\nWhat He’ll Cover:\nHow to organize your business data and systems\nSimple ways to automate your marketing and daily tasks\nUnderstanding AI tools and how they can actually help your business\nImproving your online presence so customers can find you\nPractical strategies to stay competitive in today’s digital world\nWhether you're a retail shop\, restaurant\, or service-based business\, this session will give you actionable ideas you can start using right away.\nWe hope you’ll join us as we continue building a stronger\, more connected downtown!
LOCATION:100 College Street Madisonville TN 37354
UID:e.3339.1442606
SEQUENCE:3
DTSTAMP:20260421T094646Z
URL:https://business.monroecountychamber.org/community-events/Details/dma-quarterly-alliance-meeting-1708647?sourceTypeId=Hub
END:VEVENT
END:VCALENDAR
