BEGIN:VCALENDAR
VERSION:2.0
PRODID:-//ChamberMaster//Event Calendar 2.0//EN
METHOD:PUBLISH
X-PUBLISHED-TTL:P1H
REFRESH-INTERVAL:P1H
CALSCALE:GREGORIAN
BEGIN:VTIMEZONE
TZID:America/New_York
BEGIN:DAYLIGHT
RRULE:FREQ=YEARLY;BYMONTH=3;BYDAY=2SU
DTSTART:20070101T000000
TZOFFSETFROM:-0500
TZOFFSETTO:-0400
TZNAME:Eastern Daylight Time
END:DAYLIGHT
BEGIN:STANDARD
RRULE:FREQ=YEARLY;BYMONTH=11;BYDAY=1SU
DTSTART:20070101T000000
TZOFFSETFROM:-0400
TZOFFSETTO:-0500
TZNAME:Eastern Standard Time
END:STANDARD
END:VTIMEZONE
BEGIN:VEVENT
DTSTART;TZID=America/New_York:20260429T130000
DTEND;TZID=America/New_York:20260429T150000
X-MICROSOFT-CDO-ALLDAYEVENT:FALSE
SUMMARY:Downtown Madisonville Cleanup Day
DESCRIPTION:Join community volunteers and the City of Madisonville to spruce up downtown Madisonville for spring and summer!  Volunteers will meet at Memorial Park at 1pm for guidance from the DMA Design Committee.  Plans include updating downtown planters and general cleanup.
X-ALT-DESC;FMTTYPE=text/html:Join community volunteers and the City of Madisonville to spruce up downtown Madisonville for spring and summer!  Volunteers will meet at Memorial Park at 1pm for guidance from the DMA Design Committee.  Plans include updating downtown planters and general cleanup.
LOCATION:309 College St N Madisonville TN 37354
UID:e.3339.1442595
SEQUENCE:3
DTSTAMP:20260421T101032Z
URL:https://business.monroecountychamber.org/community-events/Details/downtown-madisonville-cleanup-day-1708636?sourceTypeId=Hub
END:VEVENT
END:VCALENDAR
