BEGIN:VCALENDAR
VERSION:2.0
PRODID:-//ChamberMaster//Event Calendar 2.0//EN
METHOD:PUBLISH
X-PUBLISHED-TTL:P1H
REFRESH-INTERVAL:P1H
CALSCALE:GREGORIAN
BEGIN:VTIMEZONE
TZID:America/New_York
BEGIN:DAYLIGHT
RRULE:FREQ=YEARLY;BYMONTH=3;BYDAY=2SU
DTSTART:20070101T000000
TZOFFSETFROM:-0500
TZOFFSETTO:-0400
TZNAME:Eastern Daylight Time
END:DAYLIGHT
BEGIN:STANDARD
RRULE:FREQ=YEARLY;BYMONTH=11;BYDAY=1SU
DTSTART:20070101T000000
TZOFFSETFROM:-0400
TZOFFSETTO:-0500
TZNAME:Eastern Standard Time
END:STANDARD
END:VTIMEZONE
BEGIN:VEVENT
DTSTART;TZID=America/New_York:20260425T120000
DTEND;TZID=America/New_York:20260425T230000
X-MICROSOFT-CDO-ALLDAYEVENT:FALSE
SUMMARY:Madisonville Carnival at the Park
DESCRIPTION:The rides are rolling in and the lights are going up\, it’s time for the Madisonville Carnival in the Park!\nJoin us for three exciting days of thrills\, laughter\, and classic carnival fun right here in Madisonville.\nThursday\, April 23: 4-10p.m. - Wristbands: $20 (unlimited rides)\nFriday\, April 24: 4-11p.m. - Wristbands $20 (unlimited rides)\nSaturday\, April 25-12:00 p.m. to 11:00 p.m. - Wristbands $25 (unlimited rides)\nExperience classic carnival rides\, midway games\, and all your favorite carnival treats\, funnel cakes\, cotton candy and more all three nights and more on Saturday!\n🎟️ Admission is FREE - only pay for rides\, games\, food and shopping\n🎢 Unlimited ride wristbands: $20\n🎫 Individual ride tickets are available\nBring your family\, invite your friends\, and make a night of it at Kefauver Park!\nSaturday will feature local vendors and food trucks\, businesses interested in setting up are encouraged to apply. Vendor fee: $25 for regular vendors\, $50 for food vendors.\nVendors Apply Here --> https://www.visitmadisonvilletn.com/madisonville.../\nDon’t miss this fun spring tradition\, and remember\, a portion of the proceeds support downtown improvements all year long!
X-ALT-DESC;FMTTYPE=text/html:The rides are rolling in and the lights are going up\, it’s time for the Madisonville Carnival in the Park!\nJoin us for three exciting days of thrills\, laughter\, and classic carnival fun right here in Madisonville.\nThursday\, April 23: 4-10p.m. - Wristbands: $20 (unlimited rides)\nFriday\, April 24: 4-11p.m. - Wristbands $20 (unlimited rides)\nSaturday\, April 25-12:00 p.m. to 11:00 p.m. - Wristbands $25 (unlimited rides)\nExperience classic carnival rides\, midway games\, and all your favorite carnival treats\, funnel cakes\, cotton candy and more all three nights and more on Saturday!\n🎟️ Admission is FREE - only pay for rides\, games\, food and shopping\n🎢 Unlimited ride wristbands: $20\n🎫 Individual ride tickets are available\nBring your family\, invite your friends\, and make a night of it at Kefauver Park!\nSaturday will feature local vendors and food trucks\, businesses interested in setting up are encouraged to apply. Vendor fee: $25 for regular vendors\, $50 for food vendors.\nVendors Apply Here --> https://www.visitmadisonvilletn.com/madisonville.../\nDon’t miss this fun spring tradition\, and remember\, a portion of the proceeds support downtown improvements all year long!
LOCATION:5240 US-411 Madisonville TN 37354
UID:e.3339.1442589
SEQUENCE:3
DTSTAMP:20260421T105555Z
URL:https://business.monroecountychamber.org/community-events/Details/madisonville-carnival-at-the-park-1708630?sourceTypeId=Hub
END:VEVENT
END:VCALENDAR
